BEGIN:VCALENDAR
VERSION:2.0
PRODID:icalendar-ruby
CALSCALE:GREGORIAN
METHOD:PUBLISH
BEGIN:VEVENT
DTSTAMP:20260425T022603Z
UID:5-409485@friendshipfree.tithelysetup2.com
DTSTART:20260830T173000Z
DTEND:20260830T183000Z
CLASS:PUBLIC
CREATED:20260423T063510
DESCRIPTION:Sunday Worship
LAST-MODIFIED:20260423T063510
LOCATION:
SUMMARY:Sunday Worship
URL;VALUE=URI:https://friendshipfree.tithelysetup2.com/events/sunday-worshi
 p/2026-08-30
END:VEVENT
END:VCALENDAR
