BEGIN:VCALENDAR
VERSION:2.0
PRODID:icalendar-ruby
CALSCALE:GREGORIAN
METHOD:PUBLISH
BEGIN:VEVENT
DTSTAMP:20260423T220158Z
UID:5-409468@friendshipfree.tithelysetup2.com
DTSTART:20260503T173000Z
DTEND:20260503T183000Z
CLASS:PUBLIC
CREATED:20260423T063510
DESCRIPTION:Sunday Worship
LAST-MODIFIED:20260423T063510
LOCATION:
SUMMARY:Sunday Worship
URL;VALUE=URI:https://friendshipfree.tithelysetup2.com/events/sunday-worshi
 p/2026-05-03
END:VEVENT
END:VCALENDAR
